BEGIN:VCALENDAR
VERSION:2.0
PRODID:-//Philip Carter Winery - ECPv6.15.20//NONSGML v1.0//EN
CALSCALE:GREGORIAN
METHOD:PUBLISH
X-WR-CALNAME:Philip Carter Winery
X-ORIGINAL-URL:https://pcwinery.com
X-WR-CALDESC:Events for Philip Carter Winery
REFRESH-INTERVAL;VALUE=DURATION:PT1H
X-Robots-Tag:noindex
X-PUBLISHED-TTL:PT1H
BEGIN:VTIMEZONE
TZID:America/New_York
BEGIN:DAYLIGHT
TZOFFSETFROM:-0500
TZOFFSETTO:-0400
TZNAME:EDT
DTSTART:20220313T070000
END:DAYLIGHT
BEGIN:STANDARD
TZOFFSETFROM:-0400
TZOFFSETTO:-0500
TZNAME:EST
DTSTART:20221106T060000
END:STANDARD
BEGIN:DAYLIGHT
TZOFFSETFROM:-0500
TZOFFSETTO:-0400
TZNAME:EDT
DTSTART:20230312T070000
END:DAYLIGHT
BEGIN:STANDARD
TZOFFSETFROM:-0400
TZOFFSETTO:-0500
TZNAME:EST
DTSTART:20231105T060000
END:STANDARD
BEGIN:DAYLIGHT
TZOFFSETFROM:-0500
TZOFFSETTO:-0400
TZNAME:EDT
DTSTART:20240310T070000
END:DAYLIGHT
BEGIN:STANDARD
TZOFFSETFROM:-0400
TZOFFSETTO:-0500
TZNAME:EST
DTSTART:20241103T060000
END:STANDARD
END:VTIMEZONE
BEGIN:VEVENT
DTSTART;TZID=America/New_York:20230702T140000
DTEND;TZID=America/New_York:20230702T170000
DTSTAMP:20260420T045102
CREATED:20230317T190057Z
LAST-MODIFIED:20230317T190057Z
UID:3535-1688306400-1688317200@pcwinery.com
SUMMARY:Live Music: Robbie Limon
DESCRIPTION:Come out to see local musician\, Robbie Limon\, play at Philip Carter Winery from 2:00 pm – 5:00 pm.
URL:https://pcwinery.com/event/live-music-robbie-limon-26/
LOCATION:Philip Carter Winery\, 4366 Stillhouse Rd\, Hume\, VA\, 22639\, United States
CATEGORIES:Live Music
ATTACH;FMTTYPE=image/png:https://pcwinery.com/wp-content/uploads/2021/04/Live-Music-Robbie-Limon.png
ORGANIZER;CN="Philip Carter Winery":MAILTO:info@pcwinery.com
END:VEVENT
BEGIN:VEVENT
DTSTART;TZID=America/New_York:20230701T140000
DTEND;TZID=America/New_York:20230701T170000
DTSTAMP:20260420T045102
CREATED:20230317T184632Z
LAST-MODIFIED:20230317T184632Z
UID:3500-1688220000-1688230800@pcwinery.com
SUMMARY:Live Music: Darryl Marini
DESCRIPTION:Come out to see local musician\, Darryl Marini\, play at Philip Carter Winery from 2:00 pm – 5:00 pm.
URL:https://pcwinery.com/event/live-music-darryl-marini-13/
LOCATION:Philip Carter Winery\, 4366 Stillhouse Rd\, Hume\, VA\, 22639\, United States
CATEGORIES:Live Music
ATTACH;FMTTYPE=image/png:https://pcwinery.com/wp-content/uploads/2021/07/Darryl-Marini-.png
ORGANIZER;CN="Philip Carter Winery":MAILTO:info@pcwinery.com
END:VEVENT
BEGIN:VEVENT
DTSTART;TZID=America/New_York:20230625T140000
DTEND;TZID=America/New_York:20230625T170000
DTSTAMP:20260420T045102
CREATED:20230317T185255Z
LAST-MODIFIED:20230317T185255Z
UID:3517-1687701600-1687712400@pcwinery.com
SUMMARY:Live Music: Luke Johnson
DESCRIPTION:Come out to see local musician\, Luke Johnson\, play at Philip Carter Winery from 2:00 pm – 5:00 pm.
URL:https://pcwinery.com/event/live-music-luke-johnson-5/
LOCATION:Philip Carter Winery\, 4366 Stillhouse Rd\, Hume\, VA\, 22639\, United States
CATEGORIES:Live Music
ATTACH;FMTTYPE=image/png:https://pcwinery.com/wp-content/uploads/2023/03/Luke-Johnson.png
ORGANIZER;CN="Philip Carter Winery":MAILTO:info@pcwinery.com
END:VEVENT
BEGIN:VEVENT
DTSTART;TZID=America/New_York:20230617T140000
DTEND;TZID=America/New_York:20230617T170000
DTSTAMP:20260420T045102
CREATED:20230317T184632Z
LAST-MODIFIED:20230317T184632Z
UID:3499-1687010400-1687021200@pcwinery.com
SUMMARY:Live Music: Darryl Marini
DESCRIPTION:Come out to see local musician\, Darryl Marini\, play at Philip Carter Winery from 2:00 pm – 5:00 pm.
URL:https://pcwinery.com/event/live-music-darryl-marini-12/
LOCATION:Philip Carter Winery\, 4366 Stillhouse Rd\, Hume\, VA\, 22639\, United States
CATEGORIES:Live Music
ATTACH;FMTTYPE=image/png:https://pcwinery.com/wp-content/uploads/2021/07/Darryl-Marini-.png
ORGANIZER;CN="Philip Carter Winery":MAILTO:info@pcwinery.com
END:VEVENT
BEGIN:VEVENT
DTSTART;TZID=America/New_York:20230611T140000
DTEND;TZID=America/New_York:20230611T170000
DTSTAMP:20260420T045102
CREATED:20230317T184414Z
LAST-MODIFIED:20230317T184414Z
UID:3488-1686492000-1686502800@pcwinery.com
SUMMARY:Live Music: Anthony Semiao
DESCRIPTION:Come out to see local musician\, Anthony Semiao\, play at Philip Carter Winery from 2:00 pm – 5:00 pm.
URL:https://pcwinery.com/event/live-music-anthony-semiao-12/
LOCATION:Philip Carter Winery\, 4366 Stillhouse Rd\, Hume\, VA\, 22639\, United States
CATEGORIES:Live Music
ATTACH;FMTTYPE=image/png:https://pcwinery.com/wp-content/uploads/2022/02/anthony-semiao-2.jpg.png
ORGANIZER;CN="Philip Carter Winery":MAILTO:info@pcwinery.com
END:VEVENT
BEGIN:VEVENT
DTSTART;TZID=America/New_York:20230604T140000
DTEND;TZID=America/New_York:20230604T170000
DTSTAMP:20260420T045102
CREATED:20230317T190056Z
LAST-MODIFIED:20230317T190056Z
UID:3534-1685887200-1685898000@pcwinery.com
SUMMARY:Live Music: Robbie Limon
DESCRIPTION:Come out to see local musician\, Robbie Limon\, play at Philip Carter Winery from 2:00 pm – 5:00 pm.
URL:https://pcwinery.com/event/live-music-robbie-limon-25/
LOCATION:Philip Carter Winery\, 4366 Stillhouse Rd\, Hume\, VA\, 22639\, United States
CATEGORIES:Live Music
ATTACH;FMTTYPE=image/png:https://pcwinery.com/wp-content/uploads/2021/04/Live-Music-Robbie-Limon.png
ORGANIZER;CN="Philip Carter Winery":MAILTO:info@pcwinery.com
END:VEVENT
BEGIN:VEVENT
DTSTART;TZID=America/New_York:20230603T140000
DTEND;TZID=America/New_York:20230603T170000
DTSTAMP:20260420T045102
CREATED:20230317T185655Z
LAST-MODIFIED:20230317T185655Z
UID:3525-1685800800-1685811600@pcwinery.com
SUMMARY:Live Music: Lyndsie Nicholson
DESCRIPTION:Come out to see local musician\, Lyndsie Nicholson\, play at Philip Carter Winery from 2:00 pm – 5:00 pm.
URL:https://pcwinery.com/event/live-music-lyndsie-nicholson-4/
LOCATION:Philip Carter Winery\, 4366 Stillhouse Rd\, Hume\, VA\, 22639\, United States
CATEGORIES:Live Music
ATTACH;FMTTYPE=image/png:https://pcwinery.com/wp-content/uploads/2021/05/PCW_live_music-4ao8D7.tmp_.png
ORGANIZER;CN="Philip Carter Winery":MAILTO:info@pcwinery.com
END:VEVENT
BEGIN:VEVENT
DTSTART;TZID=America/New_York:20230528T140000
DTEND;TZID=America/New_York:20230528T170000
DTSTAMP:20260420T045102
CREATED:20230317T184631Z
LAST-MODIFIED:20230317T184631Z
UID:3498-1685282400-1685293200@pcwinery.com
SUMMARY:Live Music: Darryl Marini
DESCRIPTION:Come out to see local musician\, Darryl Marini\, play at Philip Carter Winery from 2:00 pm – 5:00 pm.
URL:https://pcwinery.com/event/live-music-darryl-marini-11/
LOCATION:Philip Carter Winery\, 4366 Stillhouse Rd\, Hume\, VA\, 22639\, United States
CATEGORIES:Live Music
ATTACH;FMTTYPE=image/png:https://pcwinery.com/wp-content/uploads/2021/07/Darryl-Marini-.png
ORGANIZER;CN="Philip Carter Winery":MAILTO:info@pcwinery.com
END:VEVENT
BEGIN:VEVENT
DTSTART;TZID=America/New_York:20230521T140000
DTEND;TZID=America/New_York:20230521T170000
DTSTAMP:20260420T045102
CREATED:20230317T185657Z
LAST-MODIFIED:20230317T185657Z
UID:3527-1684677600-1684688400@pcwinery.com
SUMMARY:Live Music: Righteous Root
DESCRIPTION:Come out to see local musician\, Righteous Root\, play at Philip Carter Winery from 2:00 pm – 5:00 pm.
URL:https://pcwinery.com/event/live-music-righteous-root/
LOCATION:Philip Carter Winery\, 4366 Stillhouse Rd\, Hume\, VA\, 22639\, United States
CATEGORIES:Live Music
ATTACH;FMTTYPE=image/png:https://pcwinery.com/wp-content/uploads/2021/05/PCW_live_music-4ao8D7.tmp_.png
ORGANIZER;CN="Philip Carter Winery":MAILTO:info@pcwinery.com
END:VEVENT
BEGIN:VEVENT
DTSTART;TZID=America/New_York:20230520T140000
DTEND;TZID=America/New_York:20230520T170000
DTSTAMP:20260420T045102
CREATED:20230317T185254Z
LAST-MODIFIED:20230317T185254Z
UID:3516-1684591200-1684602000@pcwinery.com
SUMMARY:Live Music: Luke Johnson
DESCRIPTION:Come out to see local musician\, Luke Johnson\, play at Philip Carter Winery from 2:00 pm – 5:00 pm.
URL:https://pcwinery.com/event/live-music-luke-johnson-4/
LOCATION:Philip Carter Winery\, 4366 Stillhouse Rd\, Hume\, VA\, 22639\, United States
CATEGORIES:Live Music
ATTACH;FMTTYPE=image/png:https://pcwinery.com/wp-content/uploads/2023/03/Luke-Johnson.png
ORGANIZER;CN="Philip Carter Winery":MAILTO:info@pcwinery.com
END:VEVENT
BEGIN:VEVENT
DTSTART;TZID=America/New_York:20230520T130000
DTEND;TZID=America/New_York:20230520T170000
DTSTAMP:20260420T045102
CREATED:20230201T013527Z
LAST-MODIFIED:20230201T013527Z
UID:3439-1684587600-1684602000@pcwinery.com
SUMMARY:Wine Club Mixer
DESCRIPTION:We welcome all of our wine club members to the come out to the winery for a Wine Club Release Mixer.  Chat with PCW’s staff and fellow club members. Get a chance to taste the wines that you are getting in your wine club pickup! Also\, brand new\, take advantage of our Club Mixer deal to add an additional bottle of one of your pick-up wines to your shipment for 50% off.  Complimentary Mulled Wine included!\nReservations not required but suggested. \n  \nRSVP NOW!
URL:https://pcwinery.com/event/wine-club-mixer-7/
LOCATION:Philip Carter Winery\, 4366 Stillhouse Rd\, Hume\, VA\, 22639\, United States
CATEGORIES:Wine Club
ATTACH;FMTTYPE=image/jpeg:https://pcwinery.com/wp-content/uploads/2022/02/wine-glass-cheers-1.jpg
ORGANIZER;CN="Philip Carter Winery":MAILTO:info@pcwinery.com
END:VEVENT
BEGIN:VEVENT
DTSTART;TZID=America/New_York:20230514T140000
DTEND;TZID=America/New_York:20230514T170000
DTSTAMP:20260420T045102
CREATED:20230317T184434Z
LAST-MODIFIED:20230317T184434Z
UID:3497-1684072800-1684083600@pcwinery.com
SUMMARY:Live Music: Darryl Marini
DESCRIPTION:Come out to see local musician\, Darryl Marini\, play at Philip Carter Winery from 2:00 pm – 5:00 pm.
URL:https://pcwinery.com/event/live-music-darryl-marini-10/
LOCATION:Philip Carter Winery\, 4366 Stillhouse Rd\, Hume\, VA\, 22639\, United States
CATEGORIES:Live Music
ATTACH;FMTTYPE=image/png:https://pcwinery.com/wp-content/uploads/2021/07/Darryl-Marini-.png
ORGANIZER;CN="Philip Carter Winery":MAILTO:info@pcwinery.com
END:VEVENT
BEGIN:VEVENT
DTSTART;TZID=America/New_York:20230513T140000
DTEND;TZID=America/New_York:20230513T170000
DTSTAMP:20260420T045102
CREATED:20230317T185654Z
LAST-MODIFIED:20230317T185654Z
UID:3524-1683986400-1683997200@pcwinery.com
SUMMARY:Live Music: Lyndsie Nicholson
DESCRIPTION:Come out to see local musician\, Lyndsie Nicholson\, play at Philip Carter Winery from 2:00 pm – 5:00 pm.
URL:https://pcwinery.com/event/live-music-lyndsie-nicholson-3/
LOCATION:Philip Carter Winery\, 4366 Stillhouse Rd\, Hume\, VA\, 22639\, United States
CATEGORIES:Live Music
ATTACH;FMTTYPE=image/png:https://pcwinery.com/wp-content/uploads/2021/05/PCW_live_music-4ao8D7.tmp_.png
ORGANIZER;CN="Philip Carter Winery":MAILTO:info@pcwinery.com
END:VEVENT
BEGIN:VEVENT
DTSTART;TZID=America/New_York:20230507T140000
DTEND;TZID=America/New_York:20230507T170000
DTSTAMP:20260420T045102
CREATED:20230317T185054Z
LAST-MODIFIED:20230317T185054Z
UID:3511-1683468000-1683478800@pcwinery.com
SUMMARY:Live Music: Luke Andrews
DESCRIPTION:Come out to see local musician\, Luke Andrews\, play at Philip Carter Winery from 2:00 pm – 5:00 pm.
URL:https://pcwinery.com/event/live-music-luke-andrews/
LOCATION:Philip Carter Winery\, 4366 Stillhouse Rd\, Hume\, VA\, 22639\, United States
CATEGORIES:Live Music
ATTACH;FMTTYPE=image/png:https://pcwinery.com/wp-content/uploads/2021/05/PCW_live_music-4ao8D7.tmp_.png
ORGANIZER;CN="Philip Carter Winery":MAILTO:info@pcwinery.com
END:VEVENT
BEGIN:VEVENT
DTSTART;TZID=America/New_York:20230506T140000
DTEND;TZID=America/New_York:20230506T170000
DTSTAMP:20260420T045102
CREATED:20230317T185051Z
LAST-MODIFIED:20230317T185051Z
UID:3508-1683381600-1683392400@pcwinery.com
SUMMARY:Live Music: Jim O'ferrell
DESCRIPTION:Come out to see local musician\, Jim O’ferrell\, play at Philip Carter Winery from 2:00 pm – 5:00 pm.
URL:https://pcwinery.com/event/live-music-jim-oferrell/
LOCATION:Philip Carter Winery\, 4366 Stillhouse Rd\, Hume\, VA\, 22639\, United States
CATEGORIES:Live Music
ATTACH;FMTTYPE=image/png:https://pcwinery.com/wp-content/uploads/2022/05/Jim-OFerrell.png
ORGANIZER;CN="Philip Carter Winery":MAILTO:info@pcwinery.com
END:VEVENT
BEGIN:VEVENT
DTSTART;TZID=America/New_York:20230430T140000
DTEND;TZID=America/New_York:20230430T170000
DTSTAMP:20260420T045102
CREATED:20230317T190055Z
LAST-MODIFIED:20230317T190055Z
UID:3533-1682863200-1682874000@pcwinery.com
SUMMARY:Live Music: Robbie Limon
DESCRIPTION:Come out to see local musician\, Robbie Limon\, play at Philip Carter Winery from 2:00 pm – 5:00 pm.
URL:https://pcwinery.com/event/live-music-robbie-limon-24/
LOCATION:Philip Carter Winery\, 4366 Stillhouse Rd\, Hume\, VA\, 22639\, United States
CATEGORIES:Live Music
ATTACH;FMTTYPE=image/png:https://pcwinery.com/wp-content/uploads/2021/04/Live-Music-Robbie-Limon.png
ORGANIZER;CN="Philip Carter Winery":MAILTO:info@pcwinery.com
END:VEVENT
BEGIN:VEVENT
DTSTART;TZID=America/New_York:20230429T110000
DTEND;TZID=America/New_York:20230429T180000
DTSTAMP:20260420T045102
CREATED:20230201T013557Z
LAST-MODIFIED:20230201T013557Z
UID:3451-1682766000-1682791200@pcwinery.com
SUMMARY:PCW at the Bloomin Wine Festival
DESCRIPTION:Come out to visit the PCW team at the Bloomin’ Wine Fest! This 2-day event takes place in Downtown Winchester\, VA!\n  \nWine Festival ticket sales do not go through Philip Carter Winery. \n  \nVisit the link below for more information! \nMore Info!
URL:https://pcwinery.com/event/pcw-at-the-bloomin-wine-festival-2/
LOCATION:VA
CATEGORIES:Offsite Event
ATTACH;FMTTYPE=image/jpeg:https://pcwinery.com/wp-content/uploads/2023/01/IMG_2949-scaled-SdoOFx.tmp_.jpg
END:VEVENT
BEGIN:VEVENT
DTSTART;TZID=America/New_York:20230428T150000
DTEND;TZID=America/New_York:20230428T220000
DTSTAMP:20260420T045102
CREATED:20230201T013556Z
LAST-MODIFIED:20230201T013556Z
UID:3450-1682694000-1682719200@pcwinery.com
SUMMARY:PCW at the Bloomin Wine Festival
DESCRIPTION:Come out to visit the PCW team at the Bloomin’ Wine Fest! This 2-day event takes place in Downtown Winchester\, VA!\n  \nWine Festival ticket sales do not go through Philip Carter Winery. \n  \nVisit the link below for more information! \nMore Info!
URL:https://pcwinery.com/event/pcw-at-the-bloomin-wine-festival/
LOCATION:VA
CATEGORIES:Offsite Event
ATTACH;FMTTYPE=image/jpeg:https://pcwinery.com/wp-content/uploads/2023/01/IMG_2949-scaled-j4IWDd.tmp_.jpg
END:VEVENT
BEGIN:VEVENT
DTSTART;VALUE=DATE:20230428
DTEND;VALUE=DATE:20230429
DTSTAMP:20260420T045102
CREATED:20230201T013959Z
LAST-MODIFIED:20230201T013959Z
UID:3463-1682640000-1682726399@pcwinery.com
SUMMARY:Cleve Day - Celebrating of the Life of an American Wine Pioneer
DESCRIPTION:On April 28th\, we celebrate the life of Charles Carter of Cleve (ca. 1707–1764)\, who in 1762 received the first international recognition for producing excellent wine in Virginia in 1762.   Charles Carter\, 5th child born of Colonel Robert “King” Carter and Elizabeth Landon-Wells was born in Lancaster County\, Virginia\, and resided in Lancaster and King George County\, Virginia.  In 1754\, he built Cleve Plantation and its magnificence vied with seats of his brothers\, John of Shirley\, Robert of Nomini\, Landon of Sabine Hall\, and with the homes of his sisters\, Anne of Berkeley and Judith of Rosewell.\n  \nIn 1759\, a committee of the Virginia assembly was formed and charged with the question of economic diversification\, a question made urgent by the depression in the tobacco trade.  As its chairman\, Charles Carter entered into correspondence with Peter Wyche in London\, chairman of the agriculture committee for the Society for the Encouragement of the Arts\, Manufacture\, and Commerce (now the Royal Society of Arts)\, which offered prizes for various desirable enterprises in the colonies\, among them vine growing and winemaking.  Carter’s correspondence reveals that the prospects and methods for the cultivation of the grape in Virginia were an important subject.  Carter had already begun grape growing at Cleve\, where he made wines from both native and European grapes\, and it was natural that he should have chosen commercial winemaking as one of his proposals for economic reform in Virginia. \n  \nThe London society took an encouraging view of Carter’s proposals and recommended various vines and practices\, including the trial of distilling brandy from the native grapes.  In 1762 Carter\, who by then had 1\,800 vines growing at Cleve\, sent to the London society a dozen bottles of his wine\, made from the American winter grape and from a vineyard of “white Portugal summer grapes.” These samples were so pleasing to taste—“they were both approved as excellent wines\,” the society’s secretary wrote—that on October 20\, 1762\, the society awarded Carter a gold medal as the first person to make a “spirited attempt towards the accomplishment of their views\, respecting wine in America.”  Mr. Carter died on April 26\, 1764. \n  \nIn celebration of this important day in American wine culture\, we are offering our customers a 30% bottle discount on all bottles of our 2020 Cleve! Maximum two case per person. \n  \nWINE CLUB MEMBERS: receive a discount at 40% off. \nAMBASSADOR CLUB: purchase a case and get 50% off! Today and every day!
URL:https://pcwinery.com/event/cleve-day-celebrating-of-the-life-of-an-american-wine-pioneer-2/
LOCATION:Philip Carter Winery\, 4366 Stillhouse Rd\, Hume\, VA\, 22639\, United States
CATEGORIES:Discount Days,Discounts and Specials,Special Deals
ATTACH;FMTTYPE=image/png:https://pcwinery.com/wp-content/uploads/2023/01/Cleve-Day-.png
ORGANIZER;CN="Philip Carter Winery":MAILTO:info@pcwinery.com
END:VEVENT
BEGIN:VEVENT
DTSTART;TZID=America/New_York:20230423T140000
DTEND;TZID=America/New_York:20230423T170000
DTSTAMP:20260420T045102
CREATED:20230317T184433Z
LAST-MODIFIED:20230317T184433Z
UID:3496-1682258400-1682269200@pcwinery.com
SUMMARY:Live Music: Darryl Marini
DESCRIPTION:Come out to see local musician\, Darryl Marini\, play at Philip Carter Winery from 2:00 pm – 5:00 pm.
URL:https://pcwinery.com/event/live-music-darryl-marini-9/
LOCATION:Philip Carter Winery\, 4366 Stillhouse Rd\, Hume\, VA\, 22639\, United States
CATEGORIES:Live Music
ATTACH;FMTTYPE=image/png:https://pcwinery.com/wp-content/uploads/2021/07/Darryl-Marini-.png
ORGANIZER;CN="Philip Carter Winery":MAILTO:info@pcwinery.com
END:VEVENT
BEGIN:VEVENT
DTSTART;VALUE=DATE:20230423
DTEND;VALUE=DATE:20230501
DTSTAMP:20260420T045102
CREATED:20211229T212052Z
LAST-MODIFIED:20220104T165133Z
UID:2729-1682208000-1682899199@pcwinery.com
SUMMARY:Cruise the Enchanting Danube River
DESCRIPTION:SS Maria Theresa • 7 Nights • Passau to Budapest • April 23-30\, 2023 \nTHE BEST OF CENTRAL EUROPE!\nThe shimmering waters of the fabled Danube River flow through the very heart of Europe. A veritable showcase of the best of Central Europe\, this journey is one any culturally curious world traveler will love\, featuring old-world capitals and charming towns and villages rich in winemaking history. Join your exceptional hosts from Barrel Oak\, Molon Lave\, Philip Carter and Rappahannock Cellars on this magical journey. Learn about their unique stories\, taste their delicious wines and create lasting relationships with your wine hosts and fellow wine enthusiasts over intimate tastings and dinners; a truly exclusive experience!\nINCLUDED WINE EXPERIENCE FOR ALL OUR GUESTS ∙ Welcome aboard reception\n∙ Four wine pairing dinners\n∙ Four in-depth tastings led by your winery hosts\nUNIWORLD’S LUXURIOUS ALL INCLUSIVE AMENITIES ∙ INCLUDED Daily Shore Excursions\n∙ INCLUDED Pre-Paid Gratuities\n∙ INCLUDED Unlimited Beverages (including premium spirits) ∙ INCLUDED Ship-wide Internet and WiFi Access ∙ INCLUDED Transfers on Arrival and Departure Days* \nFlyer – Virginia Wineries 2023
URL:https://pcwinery.com/event/cruise-the-enchanting-danube-river-with-barrel-oak-molon-lave-philip-carter-and-rappahannock-cellars/
LOCATION:VA
ATTACH;FMTTYPE=image/png:https://pcwinery.com/wp-content/uploads/2021/12/Screen-Shot-2021-12-29-at-4.16.56-PM.png
END:VEVENT
BEGIN:VEVENT
DTSTART;TZID=America/New_York:20230422T140000
DTEND;TZID=America/New_York:20230422T170000
DTSTAMP:20260420T045102
CREATED:20230317T184431Z
LAST-MODIFIED:20230317T184431Z
UID:3494-1682172000-1682182800@pcwinery.com
SUMMARY:Live Music: Dan James
DESCRIPTION:Come out to see local musician\, Dan James\, play at Philip Carter Winery from 2:00 pm – 5:00 pm.
URL:https://pcwinery.com/event/live-music-dan-james/
LOCATION:Philip Carter Winery\, 4366 Stillhouse Rd\, Hume\, VA\, 22639\, United States
CATEGORIES:Live Music
ATTACH;FMTTYPE=image/png:https://pcwinery.com/wp-content/uploads/2021/05/PCW_live_music-4ao8D7.tmp_.png
ORGANIZER;CN="Philip Carter Winery":MAILTO:info@pcwinery.com
END:VEVENT
BEGIN:VEVENT
DTSTART;TZID=America/New_York:20230416T140000
DTEND;TZID=America/New_York:20230416T170000
DTSTAMP:20260420T045102
CREATED:20230317T184411Z
LAST-MODIFIED:20230317T184411Z
UID:3487-1681653600-1681664400@pcwinery.com
SUMMARY:Live Music: Anthony Semiao
DESCRIPTION:Come out to see local musician\, Anthony Semiao\, play at Philip Carter Winery from 2:00 pm – 5:00 pm.
URL:https://pcwinery.com/event/live-music-anthony-semiao-11/
LOCATION:Philip Carter Winery\, 4366 Stillhouse Rd\, Hume\, VA\, 22639\, United States
CATEGORIES:Live Music
ATTACH;FMTTYPE=image/png:https://pcwinery.com/wp-content/uploads/2022/02/anthony-semiao-2.jpg.png
ORGANIZER;CN="Philip Carter Winery":MAILTO:info@pcwinery.com
END:VEVENT
BEGIN:VEVENT
DTSTART;TZID=America/New_York:20230415T113000
DTEND;TZID=America/New_York:20230415T143000
DTSTAMP:20260420T045102
CREATED:20230317T184409Z
LAST-MODIFIED:20230317T184409Z
UID:3485-1681558200-1681569000@pcwinery.com
SUMMARY:Event Live Music: Robbie Limon
DESCRIPTION:Come out to see local musician\, Robbie Limon\, play at Philip Carter Winery from 11:30 am – 2:30 pm at our Derby Days: Craft Beverage & Barbeque Fest!
URL:https://pcwinery.com/event/event-live-music-robbie-limon/
LOCATION:Philip Carter Winery\, 4366 Stillhouse Rd\, Hume\, VA\, 22639\, United States
CATEGORIES:Live Music
ATTACH;FMTTYPE=image/png:https://pcwinery.com/wp-content/uploads/2021/04/Live-Music-Robbie-Limon.png
ORGANIZER;CN="Philip Carter Winery":MAILTO:info@pcwinery.com
END:VEVENT
BEGIN:VEVENT
DTSTART;TZID=America/New_York:20230415T110000
DTEND;TZID=America/New_York:20230415T180000
DTSTAMP:20260420T045102
CREATED:20230317T171310Z
LAST-MODIFIED:20230317T171310Z
UID:3475-1681556400-1681581600@pcwinery.com
SUMMARY:Derby Days: Craft Beverage & Barbeque Fest
DESCRIPTION:Tickets Now Available for our Annual\nDerby Days at Philip Carter Winery\nCraft Beverage & Barbeque Fest – April 15th\n\n\n\nWear Your Favorite Derby Attire & Enjoy Two Live Music Acts!\n\nJoin us for the weekend event of the season! Virginia craft beverages & Barbeque set in the rolling hills of the Blue Ridge. We encourage guests to dress in their best Derby attire!\n\n\n\n\n\n\n\n\n\n\nTasting Flight Tickets include a tasting of (4) Philip Carter Wines wines\, (3) Hard Ciders\, and (2) Meads. Take home a souvenir wine glass as well provided by Philip Carter Winery.\n\nEnjoy live music\, yard games\, and delicious barbecue from USA-BBQ.\n \nWine Club Members: Receive 2 free Tasting Flight Tickets per membership with reservation ahead of time. Must log in to get Club Tickets or email wineclub@pcwinery.com for assistance.\n  \nTickets are available via shop.pcwinery.com and at the door while supplies last.  Purchase tickets early.  We look forward to having you!  \n\n \nBuy Your Tickets Now
URL:https://pcwinery.com/event/derby-days-craft-beverage-barbeque-fest/
LOCATION:Philip Carter Winery\, 4366 Stillhouse Rd\, Hume\, VA\, 22639\, United States
CATEGORIES:Onsite Festivals,Special Events,Tasting Event,Tasting Events,Tastings
ATTACH;FMTTYPE=image/png:https://pcwinery.com/wp-content/uploads/2023/03/Derby-Days-Insta-1.png
ORGANIZER;CN="Philip Carter Winery":MAILTO:info@pcwinery.com
END:VEVENT
BEGIN:VEVENT
DTSTART;TZID=America/New_York:20230409T120000
DTEND;TZID=America/New_York:20230409T170000
DTSTAMP:20260420T045102
CREATED:20230201T014000Z
LAST-MODIFIED:20230201T014000Z
UID:3464-1681041600-1681059600@pcwinery.com
SUMMARY:Special Easter Hours
DESCRIPTION:Philip Carter will open at 12 PM rather than 11 AM in observance of Easter Sunday.
URL:https://pcwinery.com/event/special-easter-hours/
LOCATION:Philip Carter Winery\, 4366 Stillhouse Rd\, Hume\, VA\, 22639\, United States
CATEGORIES:Holiday Hours,Holidays
ATTACH;FMTTYPE=image/jpeg:https://pcwinery.com/wp-content/uploads/2023/01/images-cU9JU1.tmp_.jpg
ORGANIZER;CN="Philip Carter Winery":MAILTO:info@pcwinery.com
END:VEVENT
BEGIN:VEVENT
DTSTART;TZID=America/New_York:20230408T140000
DTEND;TZID=America/New_York:20230408T170000
DTSTAMP:20260420T045102
CREATED:20230317T185653Z
LAST-MODIFIED:20230317T185653Z
UID:3523-1680962400-1680973200@pcwinery.com
SUMMARY:Live Music: Lyndsie Nicholson
DESCRIPTION:Come out to see local musician\, Lyndsie Nicholson\, play at Philip Carter Winery from 2:00 pm – 5:00 pm.
URL:https://pcwinery.com/event/live-music-lyndsie-nicholson-2/
LOCATION:Philip Carter Winery\, 4366 Stillhouse Rd\, Hume\, VA\, 22639\, United States
CATEGORIES:Live Music
ATTACH;FMTTYPE=image/png:https://pcwinery.com/wp-content/uploads/2021/05/PCW_live_music-4ao8D7.tmp_.png
ORGANIZER;CN="Philip Carter Winery":MAILTO:info@pcwinery.com
END:VEVENT
BEGIN:VEVENT
DTSTART;TZID=America/New_York:20230408T130000
DTEND;TZID=America/New_York:20230408T170000
DTSTAMP:20260420T045102
CREATED:20230324T192818Z
LAST-MODIFIED:20230324T192818Z
UID:3544-1680958800-1680973200@pcwinery.com
SUMMARY:Easter Egg Hunt at Philip Carter Winery
DESCRIPTION:Here at Philip Carter Winery\, we’re having Easter for the whole family!\nThe children’s Easter Egg hunt begins at 1 pm and includes a variety of candy in their eggs!\nThe adult’s Easter Egg hunt begins at 3 pm and includes a variety of candy and tickets for discounts on wine up to a free bottle of wine!\nLive Music from 2 pm – 5 pm by Lyndsie Nicholson
URL:https://pcwinery.com/event/easter-egg-hunt-at-philip-carter-winery/
LOCATION:Philip Carter Winery\, 4366 Stillhouse Rd\, Hume\, VA\, 22639\, United States
CATEGORIES:Special Events
ATTACH;FMTTYPE=image/png:https://pcwinery.com/wp-content/uploads/2023/03/Easter.png
ORGANIZER;CN="Philip Carter Winery":MAILTO:info@pcwinery.com
END:VEVENT
BEGIN:VEVENT
DTSTART;TZID=America/New_York:20230402T140000
DTEND;TZID=America/New_York:20230402T170000
DTSTAMP:20260420T045102
CREATED:20230317T185253Z
LAST-MODIFIED:20230317T185253Z
UID:3515-1680444000-1680454800@pcwinery.com
SUMMARY:Live Music: Luke Johnson
DESCRIPTION:Come out to see local musician\, Luke Johnson\, play at Philip Carter Winery from 2:00 pm – 5:00 pm.
URL:https://pcwinery.com/event/live-music-luke-johnson-3/
LOCATION:Philip Carter Winery\, 4366 Stillhouse Rd\, Hume\, VA\, 22639\, United States
CATEGORIES:Live Music
ATTACH;FMTTYPE=image/png:https://pcwinery.com/wp-content/uploads/2023/03/Luke-Johnson.png
ORGANIZER;CN="Philip Carter Winery":MAILTO:info@pcwinery.com
END:VEVENT
BEGIN:VEVENT
DTSTART;TZID=America/New_York:20230326T120000
DTEND;TZID=America/New_York:20230326T170000
DTSTAMP:20260420T045102
CREATED:20230201T013514Z
LAST-MODIFIED:20230201T013514Z
UID:3436-1679832000-1679850000@pcwinery.com
SUMMARY:March Barrel Tasting Series
DESCRIPTION:Join us for a tour\, tasting\, and a picnic all Weekends in March!\nCome out to the winery to get an exclusive tasting of our wines straight from the barrel! Includes guided tasting of several wines in the cellar led by a wine educator. The package also includes a keepsake Philip Carter wine glass. $30 per person plus tax. \nLimited to eight customers per session. \nReservations required. \nThis experience should be enjoyed in pairs. As such reservations can only be made in even numbers. If you have a special request feel free to reach out to us. \nBuy Tickets
URL:https://pcwinery.com/event/march-barrel-tasting-series-8/
LOCATION:Philip Carter Winery\, 4366 Stillhouse Rd\, Hume\, VA\, 22639\, United States
CATEGORIES:Tasting Event
ATTACH;FMTTYPE=image/png:https://pcwinery.com/wp-content/uploads/2022/02/March-Barrel-Tastings.png
ORGANIZER;CN="Philip Carter Winery":MAILTO:info@pcwinery.com
END:VEVENT
END:VCALENDAR