BEGIN:VCALENDAR
VERSION:2.0
PRODID:-//Philip Carter Winery - ECPv6.15.20//NONSGML v1.0//EN
CALSCALE:GREGORIAN
METHOD:PUBLISH
X-WR-CALNAME:Philip Carter Winery
X-ORIGINAL-URL:https://pcwinery.com
X-WR-CALDESC:Events for Philip Carter Winery
REFRESH-INTERVAL;VALUE=DURATION:PT1H
X-Robots-Tag:noindex
X-PUBLISHED-TTL:PT1H
BEGIN:VTIMEZONE
TZID:America/New_York
BEGIN:DAYLIGHT
TZOFFSETFROM:-0500
TZOFFSETTO:-0400
TZNAME:EDT
DTSTART:20210314T070000
END:DAYLIGHT
BEGIN:STANDARD
TZOFFSETFROM:-0400
TZOFFSETTO:-0500
TZNAME:EST
DTSTART:20211107T060000
END:STANDARD
BEGIN:DAYLIGHT
TZOFFSETFROM:-0500
TZOFFSETTO:-0400
TZNAME:EDT
DTSTART:20220313T070000
END:DAYLIGHT
BEGIN:STANDARD
TZOFFSETFROM:-0400
TZOFFSETTO:-0500
TZNAME:EST
DTSTART:20221106T060000
END:STANDARD
BEGIN:DAYLIGHT
TZOFFSETFROM:-0500
TZOFFSETTO:-0400
TZNAME:EDT
DTSTART:20230312T070000
END:DAYLIGHT
BEGIN:STANDARD
TZOFFSETFROM:-0400
TZOFFSETTO:-0500
TZNAME:EST
DTSTART:20231105T060000
END:STANDARD
END:VTIMEZONE
BEGIN:VEVENT
DTSTART;TZID=America/New_York:20221107T110000
DTEND;TZID=America/New_York:20221107T180000
DTSTAMP:20260424T092053
CREATED:20221001T180627Z
LAST-MODIFIED:20221001T180627Z
UID:3349-1667818800-1667844000@pcwinery.com
SUMMARY:Harvest on the Halfshell - Wine\, Cider\, Mead & Oyster Fest!
DESCRIPTION:Get your tickets now for the 15th Annual\nHarvest on the Halfshell\nOyster Festival\nNovember 5th & 6th\n11 am – 6 pm\n \n\nJoin us for the weekend event of the season and the start of Virginia Oyster Month! We invite you to be part of an annual Virginia tradition at Philip Carter Winery\, Chesapeake Bay oysters\, award-winning wines\, ciders\, and mead! \nTasting tickets are $15 per person in advance ($20 at the event) and include a tasting flight of 4 wines\, 3 ciders\, 2 meads\, and a souvenir wine glass to take home. Oysters and other seafood will be available for purchase by Blue Ridge Seafood. Live music\, beautiful views\, and firepits in the vineyard. We look forward to having you! \nAdditionally\, all weekend Howlers and Growlers of our Sangria will be greatly discounted! \nFlight Tickets $15 in advance ($20 day of the event) and includes a taste of 4 wines\, 3 ciders\, 2 meads\, and a souvenir glass. \n\nEarly bird tickets are discounted! Live music and yard games in the vineyard.  Tickets are available via shop.pcwinery.com and at the door while supplies last.  Purchase tickets now. \n\n\nTickets Options:\nTasting Flight Ticket: $15 per person in advance ($20 at the event) and include a taste of 4 wines\, 3 ciders\, 2 meads\, and a souvenir wine glass provided by Philip Carter Winery\, Valley View Hard Cider\, Honey & Hops Meadery. \nWine Club Members: Receive 2 free Tasting Flight Tickets per membership with reservation ahead of time. Email wineclub@pcwinery.com to make your reservation. \nBuy Your Tickets Now \n\n\nAdditional Event Details: \n\nAll participants in the tasting must be aged 21+. On the day of the event\, please be prepared with valid identification at check-in. \nThis event is rain or shine and predominantly outside. We recommend dressing for the weather. \nGuests are welcome and encouraged to bring their own folding chairs or blankets as outdoor tables are limited and are available on a first-come-first-serve basis.
URL:https://pcwinery.com/event/harvest-on-the-halfshell-wine-cider-mead-oyster-fest-4/
LOCATION:Philip Carter Winery\, 4366 Stillhouse Rd\, Hume\, VA\, 22639\, United States
CATEGORIES:Live Music,Onsite Festivals,Special Events,Tasting Events,Tastings
ATTACH;FMTTYPE=image/png:https://pcwinery.com/wp-content/uploads/2022/10/HOTH-Insta.png
ORGANIZER;CN="Philip Carter Winery":MAILTO:info@pcwinery.com
END:VEVENT
END:VCALENDAR