BEGIN:VCALENDAR
VERSION:2.0
PRODID:-//Philip Carter Winery - ECPv6.15.20//NONSGML v1.0//EN
CALSCALE:GREGORIAN
METHOD:PUBLISH
X-WR-CALNAME:Philip Carter Winery
X-ORIGINAL-URL:https://pcwinery.com
X-WR-CALDESC:Events for Philip Carter Winery
REFRESH-INTERVAL;VALUE=DURATION:PT1H
X-Robots-Tag:noindex
X-PUBLISHED-TTL:PT1H
BEGIN:VTIMEZONE
TZID:America/New_York
BEGIN:DAYLIGHT
TZOFFSETFROM:-0500
TZOFFSETTO:-0400
TZNAME:EDT
DTSTART:20210314T070000
END:DAYLIGHT
BEGIN:STANDARD
TZOFFSETFROM:-0400
TZOFFSETTO:-0500
TZNAME:EST
DTSTART:20211107T060000
END:STANDARD
BEGIN:DAYLIGHT
TZOFFSETFROM:-0500
TZOFFSETTO:-0400
TZNAME:EDT
DTSTART:20220313T070000
END:DAYLIGHT
BEGIN:STANDARD
TZOFFSETFROM:-0400
TZOFFSETTO:-0500
TZNAME:EST
DTSTART:20221106T060000
END:STANDARD
BEGIN:DAYLIGHT
TZOFFSETFROM:-0500
TZOFFSETTO:-0400
TZNAME:EDT
DTSTART:20230312T070000
END:DAYLIGHT
BEGIN:STANDARD
TZOFFSETFROM:-0400
TZOFFSETTO:-0500
TZNAME:EST
DTSTART:20231105T060000
END:STANDARD
BEGIN:DAYLIGHT
TZOFFSETFROM:-0500
TZOFFSETTO:-0400
TZNAME:EDT
DTSTART:20240310T070000
END:DAYLIGHT
BEGIN:STANDARD
TZOFFSETFROM:-0400
TZOFFSETTO:-0500
TZNAME:EST
DTSTART:20241103T060000
END:STANDARD
END:VTIMEZONE
BEGIN:VEVENT
DTSTART;VALUE=DATE:20221111
DTEND;VALUE=DATE:20221112
DTSTAMP:20260420T081459
CREATED:20221001T180915Z
LAST-MODIFIED:20221001T180915Z
UID:3351-1668124800-1668211199@pcwinery.com
SUMMARY:Veterans Day
DESCRIPTION:We honor our veterans on Veterans Day and are proud to offer our active and retired heroes a 20% discount on all wine bottle purchases. Military ID required.
URL:https://pcwinery.com/event/veterans-day-2/
LOCATION:Philip Carter Winery\, 4366 Stillhouse Rd\, Hume\, VA\, 22639\, United States
CATEGORIES:Discount Days,Holiday
ATTACH;FMTTYPE=image/jpeg:https://pcwinery.com/wp-content/uploads/2021/10/difference-between-memorial-day-and-veterans-day-May-2015-t6GFY4.tmp_-scaled.jpg
ORGANIZER;CN="Philip Carter Winery":MAILTO:info@pcwinery.com
END:VEVENT
BEGIN:VEVENT
DTSTART;VALUE=DATE:20221111
DTEND;VALUE=DATE:20221112
DTSTAMP:20260420T081459
CREATED:20221001T181140Z
LAST-MODIFIED:20221001T181140Z
UID:3353-1668124800-1668211199@pcwinery.com
SUMMARY:Ten Vines Day
DESCRIPTION:In 1619\, the Virginia House of Burgesses – the first legislative assembly of the New World – passed Acte 12. The Acte required every landowner in Virginia to plant ten vines on their property yearly for the purposes of growing grapes to make wine. This Acte was the first recorded history of the efforts to grow European varietals in the New World. While unsuccessful due to Phylloxera aphid and disease\, today we celebrate this Acte as the beginnings of wine production in Virginia. Additionally\, it was in response to Acte 12 that Charles Carter planted 1\,800 vines at Cleve Plantation. It was from these vines that he produced the first internationally recognized wine in the New World in October of 1762. \nOur Ten Vines label was created as a tribute to Acte 12 and the Ten Vines that the landowners were required to plant. \nIn celebration of this historic Acte\, on Friday\, November 11th\, we are offering our customers a 30% bottle discount on all bottles of our Ten Vines Wines! Maximum two cases per customer. \nWINE CLUB MEMBERS: receive a discount at 40% off.\nAMBASSADOR CLUB: purchase a case and get 50% off! Today and every day!
URL:https://pcwinery.com/event/ten-vines-day-2/
LOCATION:Philip Carter Winery\, 4366 Stillhouse Rd\, Hume\, VA\, 22639\, United States
CATEGORIES:Discount Days,Discounts and Specials
ATTACH;FMTTYPE=image/png:https://pcwinery.com/wp-content/uploads/2021/10/Ten-Vines-Insta.png
ORGANIZER;CN="Philip Carter Winery":MAILTO:info@pcwinery.com
END:VEVENT
BEGIN:VEVENT
DTSTART;VALUE=DATE:20230210
DTEND;VALUE=DATE:20230214
DTSTAMP:20260420T081459
CREATED:20230201T014001Z
LAST-MODIFIED:20230201T014001Z
UID:3465-1675987200-1676332799@pcwinery.com
SUMMARY:Be with the One You Love at Philip Carter
DESCRIPTION:Cupid does his best work in Virginia's wine country.\n \n \nAll weekend long\, lose yourself with your loved one in Philip Carter wine country! \n			Enjoy a beautiful day in wine country and indulge in our Valentine’s Special – a long-stemmed red rose\, a slice of Cheesecake\, your choice of a glass of select Philip Carter wine or a Tasting\, a PCW stemware to take home as a keepsake\, and a decadent handcrafted chocolate infused with our wine\, all for only $20.00 pp!  Reservation is requested but not required.\n \n								  RSVP Now
URL:https://pcwinery.com/event/be-with-the-one-you-love-at-philip-carter-2/
LOCATION:Philip Carter Winery\, 4366 Stillhouse Rd\, Hume\, VA\, 22639\, United States
CATEGORIES:Discount Days,Discounts and Specials,Holidays,Special Events
ATTACH;FMTTYPE=image/jpeg:https://pcwinery.com/wp-content/uploads/2021/01/86375052_10156694195851319_595434891319967744_n-1.jpg
ORGANIZER;CN="Philip Carter Winery":MAILTO:info@pcwinery.com
END:VEVENT
BEGIN:VEVENT
DTSTART;VALUE=DATE:20230216
DTEND;VALUE=DATE:20230220
DTSTAMP:20260420T081459
CREATED:20230201T014002Z
LAST-MODIFIED:20230201T014002Z
UID:3467-1676505600-1676851199@pcwinery.com
SUMMARY:Be with the One You Love at Philip Carter
DESCRIPTION:Cupid does his best work in Virginia's wine country.\n \n \nAll weekend long\, lose yourself with your loved one in Philip Carter wine country! \n			Enjoy a beautiful day in wine country and indulge in our Valentine’s Special – a long-stemmed red rose\, a slice of Cheesecake\, your choice of a glass of select Philip Carter wine or a Tasting\, a PCW stemware to take home as a keepsake\, and a decadent handcrafted chocolate infused with our wine\, all for only $20.00 pp!  Reservation is requested but not required.\n \n								  RSVP Now
URL:https://pcwinery.com/event/be-with-the-one-you-love-at-philip-carter-3/
LOCATION:Philip Carter Winery\, 4366 Stillhouse Rd\, Hume\, VA\, 22639\, United States
CATEGORIES:Discount Days,Discounts and Specials,Holidays,Special Events
ATTACH;FMTTYPE=image/jpeg:https://pcwinery.com/wp-content/uploads/2021/01/86375052_10156694195851319_595434891319967744_n-1.jpg
ORGANIZER;CN="Philip Carter Winery":MAILTO:info@pcwinery.com
END:VEVENT
BEGIN:VEVENT
DTSTART;VALUE=DATE:20230217
DTEND;VALUE=DATE:20230218
DTSTAMP:20260420T081459
CREATED:20230201T013330Z
LAST-MODIFIED:20230201T013330Z
UID:3388-1676592000-1676678399@pcwinery.com
SUMMARY:National Drink Wine Day!
DESCRIPTION:National Drink Wine Day is celebrated annually on February 18th across the United States. The purpose of National Drink Wine Day is to spread the love and health benefits of wine. Wine has played an important role in history\, religion and relationships. We embrace the positive benefits of wine such as new friends\, reduced risk of heart disease and the enhancement of food and life.\n  \nIn celebration of this important day in American wine culture\, on February 17th we are offering our customers a 30% bottle discount on all bottles of wine\, except Cleve! Maximum two case per person. In person or online orders apply! \n  \nWINE CLUB MEMBERS: receive a discount at 40% off. \nAMBASSADOR CLUB: purchase a case and get 50% off! Today and every day! \n  \nSHOP NOW!
URL:https://pcwinery.com/event/national-drink-wine-day-2/
LOCATION:Philip Carter Winery\, 4366 Stillhouse Rd\, Hume\, VA\, 22639\, United States
CATEGORIES:Discount Days,Discounts and Specials,Special Deals
ATTACH;FMTTYPE=image/png:https://pcwinery.com/wp-content/uploads/2022/02/1.png
ORGANIZER;CN="Philip Carter Winery":MAILTO:info@pcwinery.com
END:VEVENT
BEGIN:VEVENT
DTSTART;VALUE=DATE:20230218
DTEND;VALUE=DATE:20230219
DTSTAMP:20260420T081459
CREATED:20230201T013332Z
LAST-MODIFIED:20230201T013332Z
UID:3399-1676678400-1676764799@pcwinery.com
SUMMARY:National Drink Wine Day!
DESCRIPTION:National Drink Wine Day is celebrated annually on February 18th across the United States. The purpose of National Drink Wine Day is to spread the love and health benefits of wine. Wine has played an important role in history\, religion and relationships. We embrace the positive benefits of wine such as new friends\, reduced risk of heart disease and the enhancement of food and life.\n  \nIn celebration of this important day in American wine culture\, on February 18th we are offering our customers a 30% bottle discount on all bottles of wine\, except Cleve! Maximum two case per person. In person or online orders apply! \n  \nWINE CLUB MEMBERS: receive a discount at 40% off. \nAMBASSADOR CLUB: purchase a case and get 50% off! Today and every day! \n  \nSHOP NOW!
URL:https://pcwinery.com/event/national-drink-wine-day-3/
LOCATION:Philip Carter Winery\, 4366 Stillhouse Rd\, Hume\, VA\, 22639\, United States
CATEGORIES:Discount Days,Discounts and Specials,Special Deals
ATTACH;FMTTYPE=image/png:https://pcwinery.com/wp-content/uploads/2022/02/1.png
ORGANIZER;CN="Philip Carter Winery":MAILTO:info@pcwinery.com
END:VEVENT
BEGIN:VEVENT
DTSTART;TZID=America/New_York:20230220T120000
DTEND;TZID=America/New_York:20230220T170000
DTSTAMP:20260420T081459
CREATED:20230201T013334Z
LAST-MODIFIED:20230201T013334Z
UID:3400-1676894400-1676912400@pcwinery.com
SUMMARY:Presidents Day Special
DESCRIPTION:Join us on this special Holiday Monday as we honor our veterans on President’s Day. We are proud to offer our active and retired heroes a 30% discount on all wine bottle purchases (maximum 2 cases). Military ID required.
URL:https://pcwinery.com/event/presidents-day-special-2/
LOCATION:VA
CATEGORIES:Holidays,Special Deals
ATTACH;FMTTYPE=application/pdf:https://pcwinery.com/wp-content/uploads/2022/02/Blue-Presidents-Day-Congratulation-Greeting-Card.pdf
END:VEVENT
BEGIN:VEVENT
DTSTART;VALUE=DATE:20230303
DTEND;VALUE=DATE:20230304
DTSTAMP:20260420T081459
CREATED:20230201T013800Z
LAST-MODIFIED:20230201T013800Z
UID:3460-1677801600-1677887999@pcwinery.com
SUMMARY:March Madness Sale
DESCRIPTION:Philip Carter Winery celebrates March Madness with our annual sale!  Enjoy 40% off all cases of wines\, to all customers (maximum 2 cases per customer).\nShop Now
URL:https://pcwinery.com/event/march-madness-sale-2/
LOCATION:Philip Carter Winery\, 4366 Stillhouse Rd\, Hume\, VA\, 22639\, United States
CATEGORIES:Discount Days,Discounts and Specials,Special Deals
ATTACH;FMTTYPE=image/jpeg:https://pcwinery.com/wp-content/uploads/2019/01/36495191_10155416460516319_8123390101569929216_n.jpg
ORGANIZER;CN="Philip Carter Winery":MAILTO:info@pcwinery.com
END:VEVENT
BEGIN:VEVENT
DTSTART;VALUE=DATE:20230310
DTEND;VALUE=DATE:20230311
DTSTAMP:20260420T081459
CREATED:20230201T013958Z
LAST-MODIFIED:20230201T013958Z
UID:3462-1678406400-1678492799@pcwinery.com
SUMMARY:Rosewell Day
DESCRIPTION:On March 10th\, we celebrate the 298th anniversary of Rosewell Plantation. Located in Gloucester County\, VA\, Rosewell estate was built in 1725 by Charles Mann Page and Judith Carter Page who was the sister of Charles and Landon Carter. At 2\,000sq. ft.\, Rosewell stood as the largest and costliest mansion in the colony.  Thomas Jefferson was a frequent and welcome visitor at Rosewell\, and it is said that Jefferson wrote a draft of the Declaration of Independence in what is now known as the “Blue Room\,” a room situated on the northwest corner of the second floor.  In 1916\, Rosewell was destroyed by fire\, although it remains as beautiful historic ruins today that are open to the visiting public.\n  \nIn celebration of this important day in American wine culture we are offering our customers a 30% bottle discount on all bottles of our Rosewell Rose! Maximum two case per person. \n  \nWINE CLUB MEMBERS: receive a discount at 40% off. \nAMBASSADOR CLUB: purchase a case and get 50% off! Today and every day!
URL:https://pcwinery.com/event/rosewell-day-2/
LOCATION:Philip Carter Winery\, 4366 Stillhouse Rd\, Hume\, VA\, 22639\, United States
CATEGORIES:Discount Days,Discounts and Specials,Special Deals
ATTACH;FMTTYPE=image/png:https://pcwinery.com/wp-content/uploads/2022/02/rosewell-with-bottle.png
ORGANIZER;CN="Philip Carter Winery":MAILTO:info@pcwinery.com
END:VEVENT
BEGIN:VEVENT
DTSTART;VALUE=DATE:20230318
DTEND;VALUE=DATE:20230320
DTSTAMP:20260420T081459
CREATED:20230201T013802Z
LAST-MODIFIED:20230201T013802Z
UID:3461-1679097600-1679270399@pcwinery.com
SUMMARY:St. Patrick’s Day Weekend Specials
DESCRIPTION:Stop by Philip Carter this St. Patrick’s Day Weekend for our St. Patrick’s Day Weekend Specials! All weekend\, not only will we have Valley View Hard Ciders on tap but we will also be serving a special lucky Green Sangria !!
URL:https://pcwinery.com/event/st-patricks-day-weekend-specials/
LOCATION:Philip Carter Winery\, 4366 Stillhouse Rd\, Hume\, VA\, 22639\, United States
CATEGORIES:Discounts and Specials,Holidays,Special Deals,Special Events
ATTACH;FMTTYPE=image/jpeg:https://pcwinery.com/wp-content/uploads/2019/01/29342288_10155194478251319_8101303120581099520_o.jpg
ORGANIZER;CN="Philip Carter Winery":MAILTO:info@pcwinery.com
END:VEVENT
BEGIN:VEVENT
DTSTART;VALUE=DATE:20230428
DTEND;VALUE=DATE:20230429
DTSTAMP:20260420T081459
CREATED:20230201T013959Z
LAST-MODIFIED:20230201T013959Z
UID:3463-1682640000-1682726399@pcwinery.com
SUMMARY:Cleve Day - Celebrating of the Life of an American Wine Pioneer
DESCRIPTION:On April 28th\, we celebrate the life of Charles Carter of Cleve (ca. 1707–1764)\, who in 1762 received the first international recognition for producing excellent wine in Virginia in 1762.   Charles Carter\, 5th child born of Colonel Robert “King” Carter and Elizabeth Landon-Wells was born in Lancaster County\, Virginia\, and resided in Lancaster and King George County\, Virginia.  In 1754\, he built Cleve Plantation and its magnificence vied with seats of his brothers\, John of Shirley\, Robert of Nomini\, Landon of Sabine Hall\, and with the homes of his sisters\, Anne of Berkeley and Judith of Rosewell.\n  \nIn 1759\, a committee of the Virginia assembly was formed and charged with the question of economic diversification\, a question made urgent by the depression in the tobacco trade.  As its chairman\, Charles Carter entered into correspondence with Peter Wyche in London\, chairman of the agriculture committee for the Society for the Encouragement of the Arts\, Manufacture\, and Commerce (now the Royal Society of Arts)\, which offered prizes for various desirable enterprises in the colonies\, among them vine growing and winemaking.  Carter’s correspondence reveals that the prospects and methods for the cultivation of the grape in Virginia were an important subject.  Carter had already begun grape growing at Cleve\, where he made wines from both native and European grapes\, and it was natural that he should have chosen commercial winemaking as one of his proposals for economic reform in Virginia. \n  \nThe London society took an encouraging view of Carter’s proposals and recommended various vines and practices\, including the trial of distilling brandy from the native grapes.  In 1762 Carter\, who by then had 1\,800 vines growing at Cleve\, sent to the London society a dozen bottles of his wine\, made from the American winter grape and from a vineyard of “white Portugal summer grapes.” These samples were so pleasing to taste—“they were both approved as excellent wines\,” the society’s secretary wrote—that on October 20\, 1762\, the society awarded Carter a gold medal as the first person to make a “spirited attempt towards the accomplishment of their views\, respecting wine in America.”  Mr. Carter died on April 26\, 1764. \n  \nIn celebration of this important day in American wine culture\, we are offering our customers a 30% bottle discount on all bottles of our 2020 Cleve! Maximum two case per person. \n  \nWINE CLUB MEMBERS: receive a discount at 40% off. \nAMBASSADOR CLUB: purchase a case and get 50% off! Today and every day!
URL:https://pcwinery.com/event/cleve-day-celebrating-of-the-life-of-an-american-wine-pioneer-2/
LOCATION:Philip Carter Winery\, 4366 Stillhouse Rd\, Hume\, VA\, 22639\, United States
CATEGORIES:Discount Days,Discounts and Specials,Special Deals
ATTACH;FMTTYPE=image/png:https://pcwinery.com/wp-content/uploads/2023/01/Cleve-Day-.png
ORGANIZER;CN="Philip Carter Winery":MAILTO:info@pcwinery.com
END:VEVENT
BEGIN:VEVENT
DTSTART;VALUE=DATE:20231111
DTEND;VALUE=DATE:20231112
DTSTAMP:20260420T081459
CREATED:20230201T013558Z
LAST-MODIFIED:20230201T013558Z
UID:3453-1699660800-1699747199@pcwinery.com
SUMMARY:Veterans Day
DESCRIPTION:We honor our veterans on Veterans Day and are proud to offer our active and retired heroes a 20% discount on all wine bottle purchases. Military ID required.
URL:https://pcwinery.com/event/veterans-day-3/
LOCATION:Philip Carter Winery\, 4366 Stillhouse Rd\, Hume\, VA\, 22639\, United States
CATEGORIES:Discount Days,Holiday
ATTACH;FMTTYPE=image/jpeg:https://pcwinery.com/wp-content/uploads/2021/10/difference-between-memorial-day-and-veterans-day-May-2015-t6GFY4.tmp_-scaled.jpg
ORGANIZER;CN="Philip Carter Winery":MAILTO:info@pcwinery.com
END:VEVENT
END:VCALENDAR