BEGIN:VCALENDAR
VERSION:2.0
PRODID:-//Philip Carter Winery - ECPv6.15.20//NONSGML v1.0//EN
CALSCALE:GREGORIAN
METHOD:PUBLISH
X-ORIGINAL-URL:https://pcwinery.com
X-WR-CALDESC:Events for Philip Carter Winery
REFRESH-INTERVAL;VALUE=DURATION:PT1H
X-Robots-Tag:noindex
X-PUBLISHED-TTL:PT1H
BEGIN:VTIMEZONE
TZID:America/New_York
BEGIN:DAYLIGHT
TZOFFSETFROM:-0500
TZOFFSETTO:-0400
TZNAME:EDT
DTSTART:20210314T070000
END:DAYLIGHT
BEGIN:STANDARD
TZOFFSETFROM:-0400
TZOFFSETTO:-0500
TZNAME:EST
DTSTART:20211107T060000
END:STANDARD
BEGIN:DAYLIGHT
TZOFFSETFROM:-0500
TZOFFSETTO:-0400
TZNAME:EDT
DTSTART:20220313T070000
END:DAYLIGHT
BEGIN:STANDARD
TZOFFSETFROM:-0400
TZOFFSETTO:-0500
TZNAME:EST
DTSTART:20221106T060000
END:STANDARD
BEGIN:DAYLIGHT
TZOFFSETFROM:-0500
TZOFFSETTO:-0400
TZNAME:EDT
DTSTART:20230312T070000
END:DAYLIGHT
BEGIN:STANDARD
TZOFFSETFROM:-0400
TZOFFSETTO:-0500
TZNAME:EST
DTSTART:20231105T060000
END:STANDARD
END:VTIMEZONE
BEGIN:VEVENT
DTSTART;TZID=America/New_York:20220507T080000
DTEND;TZID=America/New_York:20220508T170000
DTSTAMP:20260422T094219
CREATED:20220504T180557Z
LAST-MODIFIED:20220504T180557Z
UID:3108-1651910400-1652029200@pcwinery.com
SUMMARY:Mothers Day Weekend at PCW
DESCRIPTION:The PCW family welcomes families and mothers to share in the glory of the vineyard and explore the beauty of wine. All moms who visit Philip Carter Winery this weekend for a tasting will receive a long stem rose and delectable chocolate. \nCome in to see what wine discounts we are offering!
URL:https://pcwinery.com/event/mothers-day-weekend-at-pcw/
LOCATION:Philip Carter Winery\, 4366 Stillhouse Rd\, Hume\, VA\, 22639\, United States
CATEGORIES:Discount Days,Special Deals
ATTACH;FMTTYPE=image/png:https://pcwinery.com/wp-content/uploads/2022/05/Happy-Mothers-Day.png
END:VEVENT
END:VCALENDAR