BEGIN:VCALENDAR
VERSION:2.0
PRODID:-//Philip Carter Winery - ECPv6.15.20//NONSGML v1.0//EN
CALSCALE:GREGORIAN
METHOD:PUBLISH
X-WR-CALNAME:Philip Carter Winery
X-ORIGINAL-URL:https://pcwinery.com
X-WR-CALDESC:Events for Philip Carter Winery
REFRESH-INTERVAL;VALUE=DURATION:PT1H
X-Robots-Tag:noindex
X-PUBLISHED-TTL:PT1H
BEGIN:VTIMEZONE
TZID:America/New_York
BEGIN:DAYLIGHT
TZOFFSETFROM:-0500
TZOFFSETTO:-0400
TZNAME:EDT
DTSTART:20210314T070000
END:DAYLIGHT
BEGIN:STANDARD
TZOFFSETFROM:-0400
TZOFFSETTO:-0500
TZNAME:EST
DTSTART:20211107T060000
END:STANDARD
BEGIN:DAYLIGHT
TZOFFSETFROM:-0500
TZOFFSETTO:-0400
TZNAME:EDT
DTSTART:20220313T070000
END:DAYLIGHT
BEGIN:STANDARD
TZOFFSETFROM:-0400
TZOFFSETTO:-0500
TZNAME:EST
DTSTART:20221106T060000
END:STANDARD
BEGIN:DAYLIGHT
TZOFFSETFROM:-0500
TZOFFSETTO:-0400
TZNAME:EDT
DTSTART:20230312T070000
END:DAYLIGHT
BEGIN:STANDARD
TZOFFSETFROM:-0400
TZOFFSETTO:-0500
TZNAME:EST
DTSTART:20231105T060000
END:STANDARD
END:VTIMEZONE
BEGIN:VEVENT
DTSTART;TZID=America/New_York:20220226T130000
DTEND;TZID=America/New_York:20220226T170000
DTSTAMP:20260422T145805
CREATED:20220217T143730Z
LAST-MODIFIED:20220217T205850Z
UID:2858-1645880400-1645894800@pcwinery.com
SUMMARY:Wine Club Mixer
DESCRIPTION:We welcome all of our wine club members to the come out to the winery for a Wine Club Release Mixer.  Chat with PCW’s staff and fellow club members. Get a chance to taste the wines that you are getting in your wine club pickup! Also\, brand new\, take advantage of our new Club Mixer deal to add an additional bottle of one of your pick-up wines to your shipment for 50% off.  Complimentary Mulled Wine included! \nReservations not required but suggested. \n  \nRSVP NOW!
URL:https://pcwinery.com/event/wine-club-mixer/
LOCATION:Philip Carter Winery\, 4366 Stillhouse Rd\, Hume\, VA\, 22639\, United States
CATEGORIES:Discounts and Specials
ATTACH;FMTTYPE=image/jpeg:https://pcwinery.com/wp-content/uploads/2022/02/wine-glass-cheers-1.jpg
ORGANIZER;CN="Philip Carter Winery":MAILTO:info@pcwinery.com
END:VEVENT
END:VCALENDAR